BEGIN:VCALENDAR
VERSION:2.0
PRODID:-//81.169.145.79//NONSGML kigkonsult.se iCalcreator 2.20//
CALSCALE:GREGORIAN
METHOD:PUBLISH
X-WR-TIMEZONE:UTC
BEGIN:VEVENT
UID:event7@TC Wörth am Rhein
DTSTAMP:20260422T153750Z
CATEGORIES:Veranstaltung
DESCRIPTION:Glühwein & Wildgulasch im Clubhaus\nCategory: Veranstaltung\nLi
 nk: http://tc-woerth.de/index.php?option=com_jem&view=event&id=7:gluehwein
 -wildgulasch-im-clubhaus\n
DTSTART:20231215T160000Z
DTEND:20231215T220000Z
LOCATION:TC Wörth am Rhein\,Mozartstr. 10\,76744 Wörth\,Germany
SUMMARY:Glühwein & Wildgulasch im Clubhaus
URL:http://tc-woerth.de/index.php?option=com_jem&view=event&id=7:gluehwein-
 wildgulasch-im-clubhaus
END:VEVENT
BEGIN:VEVENT
UID:event5@TC Wörth am Rhein
DTSTAMP:20260422T153750Z
CATEGORIES:Veranstaltung
DESCRIPTION:Mitgliederversammlung\nCategory: Veranstaltung\nLink: http://tc
 -woerth.de/index.php?option=com_jem&view=event&id=5:mitgliederversammlung
 \n
DTSTART:20220331T190000Z
DTEND:20220331T210000Z
LOCATION:Bayerischer Hof\,Ottstraße 30\,76744 Wörth\,Germany
SUMMARY:Mitgliederversammlung
URL:http://tc-woerth.de/index.php?option=com_jem&view=event&id=5:mitglieder
 versammlung
END:VEVENT
BEGIN:VEVENT
UID:event6@TC Wörth am Rhein
DTSTAMP:20260422T153750Z
CATEGORIES:Veranstaltung
DESCRIPTION:Aktion Saubere Landschaft\nCategory: Veranstaltung\nLink: http:
 //tc-woerth.de/index.php?option=com_jem&view=event&id=6:aktion-saubere-lan
 dschaft\n
DTSTART:20220326T100000Z
DTEND:20220327T130000Z
LOCATION:TC Wörth am Rhein\,Mozartstr. 10\,76744 Wörth\,Germany
SUMMARY:Aktion Saubere Landschaft
URL:http://tc-woerth.de/index.php?option=com_jem&view=event&id=6:aktion-sau
 bere-landschaft
END:VEVENT
BEGIN:VEVENT
UID:event4@TC Wörth am Rhein
DTSTAMP:20260422T153750Z
CATEGORIES:Veranstaltung
DESCRIPTION:Weihnachtsfeier\nCategory: Veranstaltung\nLink: http://tc-woert
 h.de/index.php?option=com_jem&view=event&id=4:weihnachtsfeier\n
DTSTART;VALUE=DATE:20191207
DTEND;VALUE=DATE:20191208
LOCATION:TC Wörth am Rhein\,Mozartstr. 10\,76744 Wörth\,Germany
SUMMARY:Weihnachtsfeier
URL:http://tc-woerth.de/index.php?option=com_jem&view=event&id=4:weihnachts
 feier
END:VEVENT
BEGIN:VEVENT
UID:event3@TC Wörth am Rhein
DTSTAMP:20260422T153750Z
CATEGORIES:Veranstaltung
DESCRIPTION:Herbstwanderung\nCategory: Veranstaltung\nLink: http://tc-woert
 h.de/index.php?option=com_jem&view=event&id=3:herbstwanderung\n
DTSTART;VALUE=DATE:20191020
DTEND;VALUE=DATE:20191021
LOCATION:TC Wörth am Rhein\,Mozartstr. 10\,76744 Wörth\,Germany
SUMMARY:Herbstwanderung
URL:http://tc-woerth.de/index.php?option=com_jem&view=event&id=3:herbstwand
 erung
END:VEVENT
BEGIN:VEVENT
UID:event2@TC Wörth am Rhein
DTSTAMP:20260422T153750Z
CATEGORIES:Veranstaltung
DESCRIPTION:Saisonabschluss\nCategory: Veranstaltung\nLink: http://tc-woert
 h.de/index.php?option=com_jem&view=event&id=2:saisonabschluss\n
DTSTART;VALUE=DATE:20190928
DTEND;VALUE=DATE:20190929
LOCATION:TC Wörth am Rhein\,Mozartstr. 10\,76744 Wörth\,Germany
SUMMARY:Saisonabschluss
URL:http://tc-woerth.de/index.php?option=com_jem&view=event&id=2:saisonabsc
 hluss
END:VEVENT
BEGIN:VEVENT
UID:event1@TC Wörth am Rhein
DTSTAMP:20260422T153750Z
CATEGORIES:Veranstaltung
DESCRIPTION:50-jähriges Jubiläum\nCategory: Veranstaltung\nLink: http://tc-
 woerth.de/index.php?option=com_jem&view=event&id=1:50-jaehriges-jubilaeum
 \n
DTSTART:20190921T130000Z
DTEND:20190921T220000Z
LOCATION:TC Wörth am Rhein\,Mozartstr. 10\,76744 Wörth\,Germany
SUMMARY:50-jähriges Jubiläum
URL:http://tc-woerth.de/index.php?option=com_jem&view=event&id=1:50-jaehrig
 es-jubilaeum
END:VEVENT
END:VCALENDAR