BEGIN:VCALENDAR
VERSION:2.0
PRODID:-//81.169.145.79//NONSGML kigkonsult.se iCalcreator 2.20//
CALSCALE:GREGORIAN
METHOD:PUBLISH
X-WR-TIMEZONE:UTC
BEGIN:VEVENT
UID:event6@TC Wörth am Rhein
DTSTAMP:20260424T091233Z
CATEGORIES:Veranstaltung
DESCRIPTION:Aktion Saubere Landschaft\nCategory: Veranstaltung\nLink: http:
 //tc-woerth.de/index.php?option=com_jem&view=event&id=6:aktion-saubere-lan
 dschaft\n
DTSTART:20220326T100000Z
DTEND:20220327T130000Z
LOCATION:TC Wörth am Rhein\,Mozartstr. 10\,76744 Wörth
SUMMARY:Aktion Saubere Landschaft
URL:http://tc-woerth.de/index.php?option=com_jem&view=event&id=6:aktion-sau
 bere-landschaft
END:VEVENT
END:VCALENDAR