BEGIN:VCALENDAR
VERSION:2.0
PRODID:-//81.169.145.79//NONSGML kigkonsult.se iCalcreator 2.20//
CALSCALE:GREGORIAN
METHOD:PUBLISH
X-WR-TIMEZONE:UTC
BEGIN:VEVENT
UID:event5@TC Wörth am Rhein
DTSTAMP:20260422T170138Z
CATEGORIES:Veranstaltung
DESCRIPTION:Mitgliederversammlung\nCategory: Veranstaltung\nLink: http://tc
 -woerth.de/index.php?option=com_jem&view=event&id=5:mitgliederversammlung
 \n
DTSTART:20220331T190000Z
DTEND:20220331T210000Z
LOCATION:Bayerischer Hof\,Ottstraße 30\,76744 Wörth
SUMMARY:Mitgliederversammlung
URL:http://tc-woerth.de/index.php?option=com_jem&view=event&id=5:mitglieder
 versammlung
END:VEVENT
END:VCALENDAR